BEGIN:VCALENDAR
VERSION:2.0
PRODID:-//AEF - ECPv6.15.18//NONSGML v1.0//EN
CALSCALE:GREGORIAN
METHOD:PUBLISH
X-ORIGINAL-URL:https://aef.navdigital.cl
X-WR-CALDESC:Eventos para AEF
REFRESH-INTERVAL;VALUE=DURATION:PT1H
X-Robots-Tag:noindex
X-PUBLISHED-TTL:PT1H
BEGIN:VTIMEZONE
TZID:America/Santiago
BEGIN:STANDARD
TZOFFSETFROM:-0300
TZOFFSETTO:-0400
TZNAME:-04
DTSTART:20210404T030000
END:STANDARD
BEGIN:DAYLIGHT
TZOFFSETFROM:-0400
TZOFFSETTO:-0300
TZNAME:-03
DTSTART:20210905T040000
END:DAYLIGHT
BEGIN:STANDARD
TZOFFSETFROM:-0300
TZOFFSETTO:-0400
TZNAME:-04
DTSTART:20220403T030000
END:STANDARD
BEGIN:DAYLIGHT
TZOFFSETFROM:-0400
TZOFFSETTO:-0300
TZNAME:-03
DTSTART:20220911T040000
END:DAYLIGHT
BEGIN:STANDARD
TZOFFSETFROM:-0300
TZOFFSETTO:-0400
TZNAME:-04
DTSTART:20230402T030000
END:STANDARD
BEGIN:DAYLIGHT
TZOFFSETFROM:-0400
TZOFFSETTO:-0300
TZNAME:-03
DTSTART:20230903T040000
END:DAYLIGHT
BEGIN:STANDARD
TZOFFSETFROM:-0300
TZOFFSETTO:-0400
TZNAME:-04
DTSTART:20240407T030000
END:STANDARD
BEGIN:DAYLIGHT
TZOFFSETFROM:-0400
TZOFFSETTO:-0300
TZNAME:-03
DTSTART:20240908T040000
END:DAYLIGHT
END:VTIMEZONE
BEGIN:VEVENT
DTSTART;VALUE=DATE:20231116
DTEND;VALUE=DATE:20231117
DTSTAMP:20260426T000329
CREATED:20231120T143312Z
LAST-MODIFIED:20231120T143312Z
UID:19604-1700092800-1700179199@aef.navdigital.cl
SUMMARY:Presentación Libro Jon Martínez
DESCRIPTION:Empresas Familiares. Reflexiones inspiradoras que mueven a la acción a empresarios y sus familias Autor: Jon Martínez Presentador: Juan Sutil Comentarios Finales: Magdalena Díaz y José Miguel Simian
URL:https://aef.navdigital.cl/eventos/presentacion-libro-jon-martinez/
ATTACH;FMTTYPE=image/jpeg:https://aef.navdigital.cl/wp-content/uploads/2023/11/CalendarioWebAEF_LibroESE-scaled.jpg
END:VEVENT
BEGIN:VEVENT
DTSTART;VALUE=DATE:20231116
DTEND;VALUE=DATE:20231118
DTSTAMP:20260426T000329
CREATED:20231120T141619Z
LAST-MODIFIED:20231120T141619Z
UID:19601-1700092800-1700265599@aef.navdigital.cl
SUMMARY:EtMDay Santiago
DESCRIPTION:El Encuentro Internacional de Innovación\, Emprendimiento e Inversión\, EtMday Santiago 2023\, es la gran fiesta de emprendimiento e innovación que se celebrará por tercera en la historia\, el 16 y 17 de noviembre en el Parque Bicentenario de Vitacura\, con el propósito de conectar a los pares improbables: a emprendedores con grandes empresas\, inversionistas y mentores\, en busca de nuevos negocios y propuestas innovadoras\, de todo Chile y Latam\, a partir de distintas actividades e instancias de networking para generar nuevas y mejores oportunidades de negocios para ambos. Sé parte de dinámicas de networking\, ruedas de contacto\, zona de mentorías\, electric car pitch\, classic car pitch\, elevator pitch\, talleres\, paneles y charlas dictadas por los principales referentes del emprendimiento\, que te ayudarán a dar ese paso que necesitas. ¡Adquiere tu entrada en www.etmday.org. ¡Te esperamos el 16 y 17 de noviembre en el Parque Bicentenario de Vitacura!
URL:https://aef.navdigital.cl/eventos/etmday-santiago/
ATTACH;FMTTYPE=image/jpeg:https://aef.navdigital.cl/wp-content/uploads/2023/11/CalendarioWebAEF_ETM-scaled.jpg
END:VEVENT
BEGIN:VEVENT
DTSTART;VALUE=DATE:20231024
DTEND;VALUE=DATE:20231025
DTSTAMP:20260426T000329
CREATED:20231012T002756Z
LAST-MODIFIED:20231012T012817Z
UID:19557-1698105600-1698191999@aef.navdigital.cl
SUMMARY:Aniversario AEF 2023
DESCRIPTION:
URL:https://aef.navdigital.cl/eventos/aniversario-aef-2023/
ATTACH;FMTTYPE=image/png:https://aef.navdigital.cl/wp-content/uploads/2023/10/InvitacionAniversario1-Calendario.png
END:VEVENT
BEGIN:VEVENT
DTSTART;VALUE=DATE:20231016
DTEND;VALUE=DATE:20231017
DTSTAMP:20260426T000329
CREATED:20231012T003911Z
LAST-MODIFIED:20231012T013549Z
UID:19562-1697414400-1697500799@aef.navdigital.cl
SUMMARY:Pacto de accionistas y sus consideraciones en términos de control\, sucesión y aspectos tributarios
DESCRIPTION:
URL:https://aef.navdigital.cl/eventos/pacto-de-accionistas-y-sus-consideraciones-en-terminos-de-control-sucesion-y-aspectos-tributarios/
ATTACH;FMTTYPE=image/png:https://aef.navdigital.cl/wp-content/uploads/2023/10/AEF_EY_Octubre_Calendario.png
END:VEVENT
BEGIN:VEVENT
DTSTART;VALUE=DATE:20231012
DTEND;VALUE=DATE:20231013
DTSTAMP:20260426T000329
CREATED:20231012T003240Z
LAST-MODIFIED:20231012T013827Z
UID:19560-1697068800-1697155199@aef.navdigital.cl
SUMMARY:Chile en el radar: Ciclo de contingencia para familias empresarias
DESCRIPTION:
URL:https://aef.navdigital.cl/eventos/chile-en-el-radar-ciclo-de-contingencia-para-familias-empresarias-2/
ATTACH;FMTTYPE=image/jpeg:https://aef.navdigital.cl/wp-content/uploads/2023/07/Chile-en-el-radar_AEF_Calendario-06-1.jpg
END:VEVENT
BEGIN:VEVENT
DTSTART;VALUE=DATE:20230901
DTEND;VALUE=DATE:20230902
DTSTAMP:20260426T000329
CREATED:20230816T190259Z
LAST-MODIFIED:20230816T190259Z
UID:19416-1693526400-1693612799@aef.navdigital.cl
SUMMARY:Cómo formar y sacar partido de un buen Gobierno Corporativo en la Empresa Familiar.
DESCRIPTION:En esta charla magistral y testimonial junto a Jon Martínez y María José Bosch hablaremos de los aspectos más relevantes a la hora de formar y mantener un buen directorio en la empresa familiar y/o holding\, que proyecte la continuidad de la empresa y el legado familiar.
URL:https://aef.navdigital.cl/eventos/como-formar-y-sacar-partido-de-un-buen-gobierno-corporativo-en-la-empresa-familiar/
ATTACH;FMTTYPE=image/png:https://aef.navdigital.cl/wp-content/uploads/2023/08/Gobierno-Corporativo-Empresa-Familiar_AEF_Calendario.png
END:VEVENT
BEGIN:VEVENT
DTSTART;VALUE=DATE:20230810
DTEND;VALUE=DATE:20230811
DTSTAMP:20260426T000329
CREATED:20230731T180637Z
LAST-MODIFIED:20230731T180637Z
UID:19349-1691625600-1691711999@aef.navdigital.cl
SUMMARY:Chile en el radar: Ciclo de contingencia para familias empresarias
DESCRIPTION:En este ciclo online de contingencia analizaremos dos temáticas que generan importantes oportunidades y desafíos para las familias empresarias.\n1° Charla: 10 de agosto  ¿Y ahora qué tengo que hacer? Las bondades del Convenio Chile -US de doble tributación. \nExpositores: Manuel Alcalde (Socio Carey) y Valentina Kuscevic (Asociada Carey).
URL:https://aef.navdigital.cl/eventos/chile-en-el-radar-ciclo-de-contingencia-para-familias-empresarias/
ATTACH;FMTTYPE=image/jpeg:https://aef.navdigital.cl/wp-content/uploads/2023/07/Chile-en-el-radar_AEF_Calendario-06-1.jpg
END:VEVENT
BEGIN:VEVENT
DTSTART;VALUE=DATE:20230803
DTEND;VALUE=DATE:20230807
DTSTAMP:20260426T000329
CREATED:20230515T155427Z
LAST-MODIFIED:20231012T013917Z
UID:19142-1691020800-1691366399@aef.navdigital.cl
SUMMARY:Encuentro de Familias Empresarias AEF: Generaciones unidas por un mismo norte
DESCRIPTION:
URL:https://aef.navdigital.cl/eventos/encuentro-de-familias-empresarias-aef-generaciones-unidas-por-un-mismo-norte/
ATTACH;FMTTYPE=image/jpeg:https://aef.navdigital.cl/wp-content/uploads/2023/05/San-Pedro-de-Atacama_EncuentroAEF_Calendario-04.jpg
END:VEVENT
BEGIN:VEVENT
DTSTART;VALUE=DATE:20230727
DTEND;VALUE=DATE:20230728
DTSTAMP:20260426T000329
CREATED:20230711T020552Z
LAST-MODIFIED:20231012T013951Z
UID:19316-1690416000-1690502399@aef.navdigital.cl
SUMMARY:Conversemos en confianza: Gobernanza Familiar
DESCRIPTION:  \n 
URL:https://aef.navdigital.cl/eventos/conversemos-en-confianza-gobernanza-familiar/
ATTACH;FMTTYPE=image/jpeg:https://aef.navdigital.cl/wp-content/uploads/2023/07/Conversemos-en-confianza-AEF_Calendario-05.jpg
END:VEVENT
BEGIN:VEVENT
DTSTART;VALUE=DATE:20230620
DTEND;VALUE=DATE:20230621
DTSTAMP:20260426T000329
CREATED:20230606T154421Z
LAST-MODIFIED:20230606T154518Z
UID:19237-1687219200-1687305599@aef.navdigital.cl
SUMMARY:Inversiones del Futuro 3º EtM Tuesday 2023
DESCRIPTION:El Capítulo de AEF Futuro y EtM (Emprende tu Mente) realizará en conjunto el EtMtuesday Inversiones del futuro en el que conoceremos emprendiemientos y/o startups de las nuevas generaciones de nuestra Asociación y compartiremos un agradable espacio de networking para conectar pares improbables. Presentarán 6 startups de impacto social y/o medioambiental que están marcando tendencia. \n¡Súmate!  Te esperamos
URL:https://aef.navdigital.cl/eventos/inversiones-del-futuro-3o-etm-tuesday-2023/
ATTACH;FMTTYPE=image/png:https://aef.navdigital.cl/wp-content/uploads/2023/06/ETM-Tuesday_Calendario-05.png
END:VEVENT
BEGIN:VEVENT
DTSTART;VALUE=DATE:20230614
DTEND;VALUE=DATE:20230615
DTSTAMP:20260426T000329
CREATED:20230602T152056Z
LAST-MODIFIED:20230602T152056Z
UID:19234-1686700800-1686787199@aef.navdigital.cl
SUMMARY:Family Office: Formación\, estructura y gobernanza
DESCRIPTION:El comité de Family. Office AEF junto a su presidenta Pilar Zabala\, te invitan a una charla para aprender y compartir experiencias sobre pasos claves para formar\, estructurar y liderar un Family Office.
URL:https://aef.navdigital.cl/eventos/family-office-formacion-estructura-y-gobernanza/
ATTACH;FMTTYPE=image/png:https://aef.navdigital.cl/wp-content/uploads/2023/06/Desayuno-Formacion-estructura-y-gobernanza_AEF_Calendario-06.png
END:VEVENT
BEGIN:VEVENT
DTSTART;VALUE=DATE:20230601
DTEND;VALUE=DATE:20230602
DTSTAMP:20260426T000329
CREATED:20230518T175526Z
LAST-MODIFIED:20230518T175544Z
UID:19163-1685577600-1685663999@aef.navdigital.cl
SUMMARY:Gobernanza Familia y Empresa: los tuyos\, los míos y los nuestros
DESCRIPTION:Una empresa familiar tiene mucho de la dinámica habitual de toda familia. Dado este contexto marcado por la interacción entre papás\, hijos\, hermanos\, primos\, tíos y abuelos es clave la profesionalización. \n¿Por dónde partir?\, ¿qué hacer con los conflictos?\, ¿cómo canalizar energías para que el negocio fluya estando al servicio de la familia y no que la familia se sirva de él?
URL:https://aef.navdigital.cl/eventos/gobernanza-familia-y-empresa-los-tuyos-los-mios-y-los-nuestros/
ATTACH;FMTTYPE=image/png:https://aef.navdigital.cl/wp-content/uploads/2023/05/Gobernanza-Empresa-y-Familia_AEF_Calendario-05.png
END:VEVENT
BEGIN:VEVENT
DTSTART;VALUE=DATE:20230526
DTEND;VALUE=DATE:20230527
DTSTAMP:20260426T000329
CREATED:20230505T160535Z
LAST-MODIFIED:20230505T160535Z
UID:19127-1685059200-1685145599@aef.navdigital.cl
SUMMARY:Encuentro Familias Empresarias de Valparaíso
DESCRIPTION:El Directorio de la Asociación de Empresas Familiares (AEF) presidido por Arturo Palma Matetic y su vicepresidente Andrés del Río\, tienen el agrado de invitarte al Primer Encuentro de Familias Empresarias AEF de la región de Valparaíso\, el próximo 26 de mayo. \nUn encuentro en el cual conoceremos inspiradoras historias familiares de sucesión; reflexionaremos sobre temas estratégicos para las familias y compartiremos el trabajo que realizamos en la Asociación. \nTe esperamos para disfrutar de un grato espacio de conversación y confianza que incluirá un taller sobre Empresa y Gobernanza Familiar y una charla de Inteligencia Artificial orientada a Empresas Familiares. \n*Evento exclusivo para familias empresarias previa inscripción
URL:https://aef.navdigital.cl/eventos/encuentro-familias-empresarias-de-valparaiso/
ATTACH;FMTTYPE=image/jpeg:https://aef.navdigital.cl/wp-content/uploads/2023/05/Valparaiso_EncuentroAEF_Calendario.jpg
END:VEVENT
BEGIN:VEVENT
DTSTART;VALUE=DATE:20230517
DTEND;VALUE=DATE:20230520
DTSTAMP:20260426T000329
CREATED:20230508T194349Z
LAST-MODIFIED:20230508T194638Z
UID:19132-1684281600-1684540799@aef.navdigital.cl
SUMMARY:Summit FBN  Colombia: Haciendo visible  lo invisible
DESCRIPTION:
URL:https://aef.navdigital.cl/eventos/summit-fbn-colombia-haciendo-visible-lo-invisible/
ATTACH;FMTTYPE=image/png:https://aef.navdigital.cl/wp-content/uploads/2023/05/Colombia_AEF_Calendario-07.png
END:VEVENT
BEGIN:VEVENT
DTSTART;VALUE=DATE:20230503
DTEND;VALUE=DATE:20230504
DTSTAMP:20260426T000329
CREATED:20230410T150403Z
LAST-MODIFIED:20230410T150403Z
UID:18927-1683072000-1683158399@aef.navdigital.cl
SUMMARY:Fondo Patrimonial  para la Filantropía: tendencia de los endowment familiares
DESCRIPTION:Invitado Especial desde Colombia:\nManuel José Carvajal\, Director Fundación Carvajal. \nCon el testimonio de:\nMatías Sahli\, Presidente del Directorio Fundación Mustakis.
URL:https://aef.navdigital.cl/eventos/fondo-patrimonial-para-la-filantropia-tendencia-de-los-endowment-familiares/
ATTACH;FMTTYPE=image/png:https://aef.navdigital.cl/wp-content/uploads/2023/04/Carey_Endowment_Calendario.png
END:VEVENT
BEGIN:VEVENT
DTSTART;VALUE=DATE:20230426
DTEND;VALUE=DATE:20230427
DTSTAMP:20260426T000329
CREATED:20230418T160254Z
LAST-MODIFIED:20230418T173612Z
UID:19060-1682467200-1682553599@aef.navdigital.cl
SUMMARY:Reporte de Impacto 2016/2022
DESCRIPTION:Banca Ética Latinoamericana te invita a la presentación del Reporte de Impacto 2016 – 2022 \nFieles a nuestros pilares de criterios éticos de inversión y transparencia\, compartiremos los resultados obtenidos en estos siete años. Además\, se llevará a cabo un Panel de Conversación titulado “Financiando la Sostenibilidad”\, en el que participarán Ximena Vial de Quest Capital\, María José Montero de FIS Ameris\, Sharoni Rosenberg de Purposely\, Magdalena Aninat del Centro de Filantropía e Inversiones Sociales de la Universidad Adolfo Ibañez y Juan Pablo Larenas cofundador de Sistema B.
URL:https://aef.navdigital.cl/eventos/reporte-de-impacto-2016-2022/
ATTACH;FMTTYPE=image/png:https://aef.navdigital.cl/wp-content/uploads/2023/04/Banca-Etica_AEF_Calendario.png
END:VEVENT
BEGIN:VEVENT
DTSTART;VALUE=DATE:20230426
DTEND;VALUE=DATE:20230427
DTSTAMP:20260426T000329
CREATED:20230414T141645Z
LAST-MODIFIED:20230420T134147Z
UID:19047-1682467200-1682553599@aef.navdigital.cl
SUMMARY:Mujeres en espacio de toma de decisiones estratégicas
DESCRIPTION:Gabriela Salvador\, presidenta AEF Mujeres\, te invita un grato conversatorio con Mónica Zalaquett y Susana Jiménez\, mujeres inspiradoras que han tenido una importante trayectoria política y gremial. Reflexionaremos sobre las acciones prácticas y las barreras\, tanto desde mundo privado como desde las políticas públicas\, para el progresivo avance de la mujer en posiciones estratégicas y así contribuir a un armónico desarrollo del país y a disminuir la brecha de género. \n 
URL:https://aef.navdigital.cl/eventos/mujeres-en-espacio-de-toma-de-decisiones-estrategicas/
ATTACH;FMTTYPE=image/png:https://aef.navdigital.cl/wp-content/uploads/2023/04/Compartiendo-Experiencias-MUJERES_AEF_Calendario-2.png
END:VEVENT
BEGIN:VEVENT
DTSTART;VALUE=DATE:20230418
DTEND;VALUE=DATE:20230419
DTSTAMP:20260426T000329
CREATED:20230414T143407Z
LAST-MODIFIED:20230414T143407Z
UID:19053-1681776000-1681862399@aef.navdigital.cl
SUMMARY:Bienvenida socios nuevos /Encuentro Padre Hijo: Puente generacional
DESCRIPTION:Te invitamos a un conversatorio con un valioso testimonio de sucesión generacional entre Pablo Bosch padre e hijo; moderado por Loreto Vergara\, psicóloga y consultora senior que colabora con directores y gerentes de Empresas Familiares.  Nuestra comunidad AEF también dará la bienvenida a los Socios Nuevos para poder conocerlos y disfrutar de una agradable conversación.
URL:https://aef.navdigital.cl/eventos/bienvenida-socios-nuevos-encuentro-padre-hijo-puente-generacional/
ATTACH;FMTTYPE=image/png:https://aef.navdigital.cl/wp-content/uploads/2023/04/bienv_nvos_socios_Calendario.png
END:VEVENT
BEGIN:VEVENT
DTSTART;VALUE=DATE:20230414
DTEND;VALUE=DATE:20230415
DTSTAMP:20260426T000329
CREATED:20230403T165752Z
LAST-MODIFIED:20230403T165839Z
UID:18908-1681430400-1681516799@aef.navdigital.cl
SUMMARY:Sucesión: cuando Joe Black golpea a tu puerta
DESCRIPTION:Pierdo a mi hermano\, mi socio\, mi complemento…de imprevisto.\nY ahora ¿Qué hago? ¿Con su viuda? ¿Con mis sobrinos? ¿Con su rol en el negocio? ¿Con la empresa? Con mis carencias? \nUna sucesión atípica\, horizontal e inesperada
URL:https://aef.navdigital.cl/eventos/sucesion-cuando-joe-black-golpea-a-tu-puerta/
ATTACH;FMTTYPE=image/png:https://aef.navdigital.cl/wp-content/uploads/2023/04/Sucesion_AEF_Calendario.png
END:VEVENT
BEGIN:VEVENT
DTSTART;VALUE=DATE:20230330
DTEND;VALUE=DATE:20230401
DTSTAMP:20260426T000329
CREATED:20230220T214108Z
LAST-MODIFIED:20230220T214108Z
UID:18649-1680134400-1680307199@aef.navdigital.cl
SUMMARY:Matanzas y proyectos de impacto social
DESCRIPTION:Comprometidos con el impacto social y fortalecimiento de la comunidad local\, te invitamos a conocer el Colegio Humboldt\, proyecto realizado por familias empresarias\, basado en pilares de educación sumamente innovadores: – 20 % de integración social de los alumnos/as – Primeros en América Latina en implementar curriculum inglés de la Universidad de Oxford. – Bienestar\, sustentabilidad medioambiental y deportes de acción como sabe del CV Junto a esta visita tendremos el testimonio de Nicolás Anastassiou\, miembro de la 4ta generación de su familia empresaria\, quien nos compartirá su experiencia de sucesión.
URL:https://aef.navdigital.cl/eventos/matanzas-y-proyectos-de-impacto-social/
ATTACH;FMTTYPE=image/png:https://aef.navdigital.cl/wp-content/uploads/2023/02/MatanzasAEF_Calendario.png
END:VEVENT
BEGIN:VEVENT
DTSTART;VALUE=DATE:20230316
DTEND;VALUE=DATE:20230317
DTSTAMP:20260426T000329
CREATED:20230310T132543Z
LAST-MODIFIED:20230310T140041Z
UID:18721-1678924800-1679011199@aef.navdigital.cl
SUMMARY:Nuevos escenarios impositivos: ¿Cómo nos preparamos para la Operación Renta 2023?
DESCRIPTION:Revisaremos la eliminación de beneficios tributarios y la implementación de nuevos gravámenes\, que serán los principales desafíos de la Operación renta 2023.
URL:https://aef.navdigital.cl/eventos/nuevos-escenarios-impositivos-como-nos-preparamos-para-la-operacion-renta-2023/
ATTACH;FMTTYPE=image/png:https://aef.navdigital.cl/wp-content/uploads/2023/03/Nuevos-escenarios-impositivos_Calendario-web-1.png
END:VEVENT
BEGIN:VEVENT
DTSTART;VALUE=DATE:20230310
DTEND;VALUE=DATE:20230311
DTSTAMP:20260426T000329
CREATED:20230220T213347Z
LAST-MODIFIED:20230220T213347Z
UID:18646-1678406400-1678492799@aef.navdigital.cl
SUMMARY:¡Por qué es tan difícil! Transición en Empresas Familiares
DESCRIPTION:Los cambios que experimenta la sociedad y la estructura de la familia\, determinan la necesidad de entender la transición de las empresas familiares desde nuevos enfoques. Abordaremos la sucesión desde la economía conductual que considera -además de factores legales y tributarios- las repercusiones emocionales al interior de la familia y de la empresa\, con especial atención a los liderazgos explícitos\, implícitos y los actores más vulnerables. Testimonio Madre-Hijas: Ángela Ossa\, Beatriz y Ángela Infante. Fundadora y segunda generación empresa familiar Targett DDI y Fundación Enlace. Ponente Rodolfo González Gatica Especialista en estrategia empresarial y transición de empresas familiares. Profesor en Behavioral Economics. Autor de los libros “Creando Valor con la Gente”\, “Ejecutivos Talentosos Empresas Triunfadoras”\, “Por qué a Mí”\, “Vale la pena intentarlo” y “Por qué es tan difícil”.
URL:https://aef.navdigital.cl/eventos/por-que-es-tan-dificil-transicion-en-empresas-familiares/
ATTACH;FMTTYPE=image/png:https://aef.navdigital.cl/wp-content/uploads/2023/02/Transicion_Empresa_Familiar_Calendario.png
END:VEVENT
BEGIN:VEVENT
DTSTART;VALUE=DATE:20230120
DTEND;VALUE=DATE:20230121
DTSTAMP:20260426T000329
CREATED:20230103T133722Z
LAST-MODIFIED:20230103T163514Z
UID:18570-1674172800-1674259199@aef.navdigital.cl
SUMMARY:Encuentro de Familias Empresarias - Coquimbo
DESCRIPTION:El Directorio de la Asociación de Empresas Familiares (AEF) presidio por Arturo Palma Matetic y su vicepresidente Andrés del Río\, tienen el agrado de invitarte el próximo viernes 20 de enero a una jornada en la que nos reuniremos con familias empresarias de la Región de Coquimbo en Ovalle.\nUn encuentro para conocer el trabajo que realiza la AEF y donde compartiremos experiencias que nos inspiren mutuamente y así reflexionar en un espacio de confianza aquellos temas que nos plantean desafíos comunes.\nLos esperamos para disfrutar de un grato espacio de conversación que incluirá también un taller sobre empresa y gobernanza familiar.
URL:https://aef.navdigital.cl/eventos/encuentro-de-familias-empresarias-coquimbo/
ATTACH;FMTTYPE=image/png:https://aef.navdigital.cl/wp-content/uploads/2023/01/Coquimbo_EncuentroAEF_Calendario.png
END:VEVENT
BEGIN:VEVENT
DTSTART;VALUE=DATE:20221201
DTEND;VALUE=DATE:20221202
DTSTAMP:20260426T000329
CREATED:20221110T183457Z
LAST-MODIFIED:20221116T142638Z
UID:18539-1669852800-1669939199@aef.navdigital.cl
SUMMARY:Encuentro de Familias Empresarias - Magallanes
DESCRIPTION:El Directorio de la Asociación de Empresas Familiares (AEF) presidio por Arturo Palma Matetic tiene el agrado de invitarte el próximo jueves 1 de diciembre a una jornada en la que nos reuniremos con familias empresarias magallánicas en Punta Arenas. Un encuentro para conocer el trabajo que realiza la AEF y donde compartiremos experiencias que nos inspiren mutuamente y así compartir en un espacio de confianza aquellos temas que nos plantean desafíos comunes. \nLos esperamos para disfrutar de un grato espacio de conversación que incluirá también un taller sobre gobernanza familiar.
URL:https://aef.navdigital.cl/eventos/encuentro-de-familias-empresarias-magallanes/
ATTACH;FMTTYPE=image/png:https://aef.navdigital.cl/wp-content/uploads/2022/11/Magallanes_EncuentroAEF_Calendario-3.png
END:VEVENT
BEGIN:VEVENT
DTSTART;VALUE=DATE:20221124
DTEND;VALUE=DATE:20221125
DTSTAMP:20260426T000329
CREATED:20221114T153537Z
LAST-MODIFIED:20221116T155921Z
UID:18549-1669248000-1669334399@aef.navdigital.cl
SUMMARY:Chile en el radar:  ¿Cómo viene el 2023?  Proyecciones económicas en un escenario mundial desafiante
DESCRIPTION:Desde París\, el economista\, ex ministro y hasta hace unos meses\, embajador del país ante la OCDE\, Felipe Morandé\, compartirá sus proyecciones económicas para el próximo año y también analizará el posicionamiento actual de Chile en el exterior.
URL:https://aef.navdigital.cl/eventos/chile-en-el-radar-como-viene-el-2023-proyecciones-economicas-en-un-escenario-mundial-desafiante/
ATTACH;FMTTYPE=image/png:https://aef.navdigital.cl/wp-content/uploads/2022/11/Chile_Radar11_Calendario-2.png
END:VEVENT
BEGIN:VEVENT
DTSTART;VALUE=DATE:20221117
DTEND;VALUE=DATE:20221118
DTSTAMP:20260426T000329
CREATED:20221114T124250Z
LAST-MODIFIED:20221114T155006Z
UID:18544-1668643200-1668729599@aef.navdigital.cl
SUMMARY:Simplificando las Inversiones
DESCRIPTION:Dada la importancia de ser accionistas responsables\, este taller esta diseñado para quienes se inician en inversiones o para quienes quieran actualizar sus conocimientos en la materia: ¿Por qué invertimos? \n– Objetivos y planes de inversión. \n– Entendiendo los instrumentos de inversión. \n– Combinando instrumentos para construir portfolios. \n– Perfiles de inversión y desempeños históricos.
URL:https://aef.navdigital.cl/eventos/simplificando-las-inversiones/
ATTACH;FMTTYPE=image/png:https://aef.navdigital.cl/wp-content/uploads/2022/11/Credicorp_AEF_Calendario-1.png
END:VEVENT
BEGIN:VEVENT
DTSTART;TZID=America/Santiago:20221013T190000
DTEND;TZID=America/Santiago:20221013T230000
DTSTAMP:20260426T000329
CREATED:20220707T173655Z
LAST-MODIFIED:20221005T130037Z
UID:17872-1665687600-1665702000@aef.navdigital.cl
SUMMARY:Evento Aniversario AEF
DESCRIPTION:SUEÑOS QUE INSPIRAN EL FUTURO \n¡Es hora de encontrarnos nuevamente! \nEl directorio de la Asociación de Empresas Familiares tiene el agrado de invitarte a celebrar un nuevo aniversario\, reuniéndonos presencialmente el jueves 13 de octubre\, a las 19:00 horas.\nSerá un momento especial para conectarnos\, compartir e inspirarnos con la entrega de los Reconocimientos a la Familia Empresaria del Año\, Generación de Impacto y\, por primera vez\, destacaremos a una Familia de Impacto Regional. Distinciones que valoran el aporte que nuestros socios hacen al país.\nTe esperamos junto a tu familia para disfrutar de un grato cóctel que incluirá sorpresas\, un speaker internacional\, música y conversación junto a nuestra comunidad AEF.
URL:https://aef.navdigital.cl/eventos/evento-aniversario-aef-2/
ATTACH;FMTTYPE=image/png:https://aef.navdigital.cl/wp-content/uploads/2022/07/aniversario_AEF_cal.png
END:VEVENT
BEGIN:VEVENT
DTSTART;TZID=America/Santiago:20220927T090000
DTEND;TZID=America/Santiago:20220927T110000
DTSTAMP:20260426T000329
CREATED:20220809T154916Z
LAST-MODIFIED:20220907T152629Z
UID:18237-1664269200-1664276400@aef.navdigital.cl
SUMMARY:Ciclo: Transición Generacional y Legado con Neus Feliú.
DESCRIPTION:Taller Presencial LA SUCESIÓN: \n– El mayor reto (y la mayor oportunidad) para la continuidad de la Empresa Familiar \n– Proceso integral: desde la familia\, la propiedad y el co liderazgo generacional. \n– Aprendizaje en conjunto de prácticas\, dilemas y experiencias para lograr una sucesión justa.
URL:https://aef.navdigital.cl/eventos/ciclo-transicion-generacional-y-legado-con-neus-feliu-taller-2/
LOCATION:Hotel Plaza el Bosque: Av. Manquehue Nte. 656\, Las Condes.\, Av. Manquehue Nte. 656\, Las Condes.\, Santiago
ATTACH;FMTTYPE=image/png:https://aef.navdigital.cl/wp-content/uploads/2022/07/Ciclo_Neus.png
END:VEVENT
BEGIN:VEVENT
DTSTART;TZID=America/Santiago:20220910T090000
DTEND;TZID=America/Santiago:20220910T190000
DTSTAMP:20260426T000329
CREATED:20220809T153905Z
LAST-MODIFIED:20220809T153905Z
UID:18232-1662800400-1662836400@aef.navdigital.cl
SUMMARY:Family Office Miami Hub
DESCRIPTION:
URL:https://aef.navdigital.cl/eventos/family-office-miami-hub-3/
LOCATION:Miami\, Miami\, United States
ATTACH;FMTTYPE=image/png:https://aef.navdigital.cl/wp-content/uploads/2022/08/FBN.png
END:VEVENT
BEGIN:VEVENT
DTSTART;TZID=America/Santiago:20220909T090000
DTEND;TZID=America/Santiago:20220909T190000
DTSTAMP:20260426T000329
CREATED:20220809T153931Z
LAST-MODIFIED:20220809T153931Z
UID:18234-1662714000-1662750000@aef.navdigital.cl
SUMMARY:Family Office Miami Hub
DESCRIPTION:
URL:https://aef.navdigital.cl/eventos/family-office-miami-hub-2/
LOCATION:Miami\, Miami\, United States
ATTACH;FMTTYPE=image/png:https://aef.navdigital.cl/wp-content/uploads/2022/08/FBN.png
END:VEVENT
END:VCALENDAR